BEGIN:VCALENDAR
VERSION:2.0
PRODID:-//ChamberMaster//Event Calendar 2.0//EN
METHOD:PUBLISH
X-PUBLISHED-TTL:P1H
REFRESH-INTERVAL:P1H
CALSCALE:GREGORIAN
BEGIN:VTIMEZONE
TZID:America/Chicago
BEGIN:DAYLIGHT
RRULE:FREQ=YEARLY;BYMONTH=3;BYDAY=2SU
DTSTART:20070101T000000
TZOFFSETFROM:-0600
TZOFFSETTO:-0500
TZNAME:Central Daylight Time
END:DAYLIGHT
BEGIN:STANDARD
RRULE:FREQ=YEARLY;BYMONTH=11;BYDAY=1SU
DTSTART:20070101T000000
TZOFFSETFROM:-0500
TZOFFSETTO:-0600
TZNAME:Central Standard Time
END:STANDARD
END:VTIMEZONE
BEGIN:VEVENT
DTSTART;TZID=America/Chicago:20260722T090000
DTEND;TZID=America/Chicago:20260722T100000
X-MICROSOFT-CDO-ALLDAYEVENT:FALSE
SUMMARY:LMLS Training
DESCRIPTION:All Members are invited to attend our recurring MLS Training class\, which will cover MLS Rules\, including our newly adopted rules about Coming Soon\, MLS Options for Sellers\, and the Clear Cooperation Policy. Paragon Tips and Tricks\, including Paragon basic customizations\, reports\, contact manager\, collaboration center\, and overall navigation. will be shared the second hour of the training.
X-ALT-DESC;FMTTYPE=text/html:All Members are invited to attend our recurring MLS Training class\, which will cover MLS Rules\, including our newly adopted rules about Coming Soon\, MLS Options for Sellers\, and the Clear Cooperation Policy. Paragon Tips and Tricks\, including Paragon basic customizations\, reports\, contact manager\, collaboration center\, and overall navigation. will be shared the second hour of the training.
LOCATION:3838 W. 6th St. Lawrence KS 66049
UID:e.1995.1447250
SEQUENCE:3
DTSTAMP:20260425T173933Z
URL:https://members.lawrencerealtor.com/eventsforparagon/Details/lmls-training-1714111?sourceTypeId=Hub
END:VEVENT
END:VCALENDAR
